BEGIN:VCALENDAR
VERSION:2.0
PRODID:-//Reformation Lutheran Church - ECPv6.15.20//NONSGML v1.0//EN
CALSCALE:GREGORIAN
METHOD:PUBLISH
X-ORIGINAL-URL:https://culpeperlutherans.org
X-WR-CALDESC:Events for Reformation Lutheran Church
REFRESH-INTERVAL;VALUE=DURATION:PT1H
X-Robots-Tag:noindex
X-PUBLISHED-TTL:PT1H
BEGIN:VTIMEZONE
TZID:UTC
BEGIN:STANDARD
TZOFFSETFROM:+0000
TZOFFSETTO:+0000
TZNAME:UTC
DTSTART:20230101T000000
END:STANDARD
END:VTIMEZONE
BEGIN:VEVENT
DTSTART;TZID=UTC:20241106T110000
DTEND;TZID=UTC:20241106T130000
DTSTAMP:20260422T082619
CREATED:20240927T054436Z
LAST-MODIFIED:20241114T185807Z
UID:274-1730890800-1730898000@culpeperlutherans.org
SUMMARY:Didlake Adult Group
DESCRIPTION:Didlake Group meets in the Fellowship Hall for lunch then Worship
URL:https://culpeperlutherans.org/event/didlake/
LOCATION:Fellowship Hall
CATEGORIES:Didlake
END:VEVENT
BEGIN:VEVENT
DTSTART;TZID=UTC:20241002T120000
DTEND;TZID=UTC:20241002T123000
DTSTAMP:20260422T082619
CREATED:20240910T050337Z
LAST-MODIFIED:20241114T185807Z
UID:229-1727870400-1727872200@culpeperlutherans.org
SUMMARY:Worship–S
DESCRIPTION:Weekly worship @ noon in the Sanctuary
URL:https://culpeperlutherans.org/event/worship-s-2/
LOCATION:Sanctuary
CATEGORIES:Worship
END:VEVENT
BEGIN:VEVENT
DTSTART;TZID=UTC:20241002T190000
DTEND;TZID=UTC:20241002T193000
DTSTAMP:20260422T082619
CREATED:20241114T202943Z
LAST-MODIFIED:20241114T185807Z
UID:428-1727895600-1727897400@culpeperlutherans.org
SUMMARY:Worship–S Evening
DESCRIPTION:Weekly worship @ 7:00PM in the Sanctuary
URL:https://culpeperlutherans.org/event/worship-s-evening/
LOCATION:Sanctuary
CATEGORIES:Worship
END:VEVENT
END:VCALENDAR